BEGIN:VCALENDAR
VERSION:2.0
PRODID:East Freo Playgroup Inc
CALSCALE:GREGORIAN
BEGIN:VEVENT
DTSTAMP:20200228T051425Z
UID:fa8e0acd-f8f8-4177-a741-e2b3055b4559
DTSTART:20131203T113000Z
DESCRIPTION:
SUMMARY:Committee Meeting
URL:http://eastfreoplaygroup.org.au/public/schedule/meetings/sQZpQ
END:VEVENT
END:VCALENDAR
