BEGIN:VCALENDAR
VERSION:2.0
PRODID:East Freo Playgroup Inc
CALSCALE:GREGORIAN
BEGIN:VEVENT
DTSTAMP:20200228T050953Z
UID:80aa92b4-6cda-49bb-bc16-232f530a40b0
DTSTART:20140624T113000Z
DESCRIPTION:
SUMMARY:Committee Meeting
URL:http://eastfreoplaygroup.org.au/public/schedule/meetings/o2w45
END:VEVENT
END:VCALENDAR
