BEGIN:VCALENDAR
VERSION:2.0
PRODID:East Freo Playgroup Inc
CALSCALE:GREGORIAN
BEGIN:VEVENT
DTSTAMP:20200228T050301Z
UID:18f4b21f-e330-45a3-8ff3-262e183012e4
DTSTART:20151020T113000Z
DESCRIPTION:
LOCATION:Tradewinds Hotel
SUMMARY:East Freo Playgroup AGM
URL:http://eastfreoplaygroup.org.au/public/schedule/meetings/fyH5-g
END:VEVENT
END:VCALENDAR
