BEGIN:VCALENDAR
VERSION:2.0
PRODID:East Freo Playgroup Inc
CALSCALE:GREGORIAN
BEGIN:VEVENT
DTSTAMP:20200228T051316Z
UID:f16705a6-a4ce-43f3-9894-54d90f154424
DTSTART:20140211T113000Z
DESCRIPTION:
SUMMARY:Committee Meeting
URL:http://eastfreoplaygroup.org.au/public/schedule/meetings/YCCV6
END:VEVENT
END:VCALENDAR
