BEGIN:VCALENDAR
VERSION:2.0
PRODID:East Freo Playgroup Inc
CALSCALE:GREGORIAN
BEGIN:VEVENT
DTSTAMP:20200228T051207Z
UID:d6cefece-c04b-44a0-b9ca-b2a91f98a905
DTSTART:20140325T113000Z
DESCRIPTION:
SUMMARY:Committee Meeting
URL:http://eastfreoplaygroup.org.au/public/schedule/meetings/XIYQV
END:VEVENT
END:VCALENDAR
