BEGIN:VCALENDAR
VERSION:2.0
PRODID:East Freo Playgroup Inc
CALSCALE:GREGORIAN
BEGIN:VEVENT
DTSTAMP:20200228T050415Z
UID:95db9dfb-a3ee-4221-9460-2103f4e642ea
DTSTART:20150217T113000Z
DESCRIPTION:
LOCATION:Playgroup
SUMMARY:Committee meeting
URL:http://eastfreoplaygroup.org.au/public/schedule/meetings/KqT3E
END:VEVENT
END:VCALENDAR
