BEGIN:VCALENDAR
VERSION:2.0
PRODID:East Freo Playgroup Inc
CALSCALE:GREGORIAN
BEGIN:VEVENT
DTSTAMP:20200228T050632Z
UID:eacc2707-25b6-49bd-8c3b-7fa57460042e
DTSTART:20141020T113000Z
DESCRIPTION:
LOCATION:Tradewinds Hotel\, East Fremantle
SUMMARY:AGM
URL:http://eastfreoplaygroup.org.au/public/schedule/meetings/KIfuC
END:VEVENT
END:VCALENDAR
