BEGIN:VCALENDAR
VERSION:2.0
PRODID:East Freo Playgroup Inc
CALSCALE:GREGORIAN
BEGIN:VEVENT
DTSTAMP:20200228T050738Z
UID:eefe769a-c1c1-4145-ab37-e1350d7eb410
DTSTART:20140916T113000Z
DESCRIPTION:
SUMMARY:Committee Meeting
URL:http://eastfreoplaygroup.org.au/public/schedule/meetings/Gn35O
END:VEVENT
END:VCALENDAR
