BEGIN:VCALENDAR
VERSION:2.0
PRODID:East Freo Playgroup Inc
CALSCALE:GREGORIAN
BEGIN:VEVENT
DTSTAMP:20200228T050528Z
UID:9baaddf5-dc0f-4bde-81a3-082c9b9f2608
DTSTART:20141209T113000Z
DESCRIPTION:
SUMMARY:Committee Meeting
URL:http://eastfreoplaygroup.org.au/public/schedule/meetings/CxMGm
END:VEVENT
END:VCALENDAR
