BEGIN:VCALENDAR
VERSION:2.0
PRODID:East Freo Playgroup Inc
CALSCALE:GREGORIAN
BEGIN:VEVENT
DTSTAMP:20200228T051102Z
UID:e8f7441e-7628-4129-b482-8c9599a49413
DTSTART:20140513T113000Z
DESCRIPTION:
LOCATION:Playgroup (Sumpton Green)
SUMMARY:Committee Meeting
URL:http://eastfreoplaygroup.org.au/public/schedule/meetings/3TsHv
END:VEVENT
END:VCALENDAR
