BEGIN:VCALENDAR
VERSION:2.0
PRODID:East Freo Playgroup Inc
CALSCALE:GREGORIAN
BEGIN:VEVENT
DTSTAMP:20200228T050844Z
UID:37f8633a-89b3-4d63-8f92-4dd5b90c172d
DTSTART:20140805T113000Z
DESCRIPTION:
SUMMARY:Committee Meeting
URL:http://eastfreoplaygroup.org.au/public/schedule/meetings/0XQXx
END:VEVENT
END:VCALENDAR
